BEGIN:VCALENDAR
VERSION:2.0
PRODID:-//Salvation Ministries - ECPv6.15.20//NONSGML v1.0//EN
CALSCALE:GREGORIAN
METHOD:PUBLISH
X-WR-CALNAME:Salvation Ministries
X-ORIGINAL-URL:https://smhos.org
X-WR-CALDESC:Events for Salvation Ministries
REFRESH-INTERVAL;VALUE=DURATION:PT1H
X-Robots-Tag:noindex
X-PUBLISHED-TTL:PT1H
BEGIN:VTIMEZONE
TZID:Africa/Lagos
BEGIN:STANDARD
TZOFFSETFROM:+0100
TZOFFSETTO:+0100
TZNAME:WAT
DTSTART:20240101T000000
END:STANDARD
END:VTIMEZONE
BEGIN:VEVENT
DTSTART;TZID=Africa/Lagos:20251104T180000
DTEND;TZID=Africa/Lagos:20251104T190000
DTSTAMP:20260421T132755
CREATED:20251102T112114Z
LAST-MODIFIED:20251102T112114Z
UID:37029-1762279200-1762282800@smhos.org
SUMMARY:Home Fellowship
DESCRIPTION:
URL:https://smhos.org/event/home-fellowship-3/
LOCATION:Rivers
CATEGORIES:Home Fellowship
ATTACH;FMTTYPE=image/png:https://smhos.org/wp-content/uploads/2025/11/HOUCE-CHURCH_-scaled.png
END:VEVENT
BEGIN:VEVENT
DTSTART;TZID=Africa/Lagos:20251111T180000
DTEND;TZID=Africa/Lagos:20251111T190000
DTSTAMP:20260421T132755
CREATED:20251109T122349Z
LAST-MODIFIED:20251109T122349Z
UID:37090-1762884000-1762887600@smhos.org
SUMMARY:Care Day
DESCRIPTION:
URL:https://smhos.org/event/care-day-2/
LOCATION:Rivers
CATEGORIES:Home Fellowship
ATTACH;FMTTYPE=image/png:https://smhos.org/wp-content/uploads/2025/11/care-day-NOV-ig.png
END:VEVENT
BEGIN:VEVENT
DTSTART;TZID=Africa/Lagos:20251118T180000
DTEND;TZID=Africa/Lagos:20251118T190000
DTSTAMP:20260421T132755
CREATED:20251116T121125Z
LAST-MODIFIED:20251116T121125Z
UID:37385-1763488800-1763492400@smhos.org
SUMMARY:Warring with Prophecies
DESCRIPTION:
URL:https://smhos.org/event/warring-with-prophecies/
LOCATION:Rivers
CATEGORIES:Home Fellowship
ATTACH;FMTTYPE=image/png:https://smhos.org/wp-content/uploads/2025/11/home-fellowship-18th-1.png
END:VEVENT
BEGIN:VEVENT
DTSTART;TZID=Africa/Lagos:20251125T180000
DTEND;TZID=Africa/Lagos:20251125T190000
DTSTAMP:20260421T132755
CREATED:20251123T112431Z
LAST-MODIFIED:20251123T112431Z
UID:37441-1764093600-1764097200@smhos.org
SUMMARY:Securing the Help of God
DESCRIPTION:
URL:https://smhos.org/event/securing-the-help-of-god/
LOCATION:Salvation Ministries HQ\, And All Her Branches Globally.\, Plot 17\, Birabi Street\, Port Harcourt\, Rivers\, 500272\, Nigeria
CATEGORIES:Home Fellowship
ATTACH;FMTTYPE=image/png:https://smhos.org/wp-content/uploads/2025/11/home-fellowship-25th.png
END:VEVENT
END:VCALENDAR