BEGIN:VCALENDAR
VERSION:2.0
PRODID:-//Salvation Ministries - ECPv6.15.20//NONSGML v1.0//EN
CALSCALE:GREGORIAN
METHOD:PUBLISH
X-ORIGINAL-URL:https://smhos.org
X-WR-CALDESC:Events for Salvation Ministries
REFRESH-INTERVAL;VALUE=DURATION:PT1H
X-Robots-Tag:noindex
X-PUBLISHED-TTL:PT1H
BEGIN:VTIMEZONE
TZID:Africa/Lagos
BEGIN:STANDARD
TZOFFSETFROM:+0100
TZOFFSETTO:+0100
TZNAME:WAT
DTSTART:20240101T000000
END:STANDARD
END:VTIMEZONE
BEGIN:VEVENT
DTSTART;TZID=Africa/Lagos:20250917T080000
DTEND;TZID=Africa/Lagos:20250917T170000
DTSTAMP:20260421T132803
CREATED:20250914T102841Z
LAST-MODIFIED:20250914T102841Z
UID:36778-1758096000-1758128400@smhos.org
SUMMARY:Youth and Singles meeting
DESCRIPTION:
URL:https://smhos.org/event/youth-and-singles-meeting/
LOCATION:Salvation Ministries HQ\, And All Her Branches Globally.\, Plot 17\, Birabi Street\, Port Harcourt\, Rivers\, 500272\, Nigeria
CATEGORIES:Midweek Service
ATTACH;FMTTYPE=image/png:https://smhos.org/wp-content/uploads/2025/09/Youths-singles-IG.png
END:VEVENT
BEGIN:VEVENT
DTSTART;TZID=Africa/Lagos:20250918T170000
DTEND;TZID=Africa/Lagos:20250918T200000
DTSTAMP:20260421T132803
CREATED:20250914T103414Z
LAST-MODIFIED:20250914T103414Z
UID:36783-1758214800-1758225600@smhos.org
SUMMARY:Faith for Success
DESCRIPTION:
URL:https://smhos.org/event/faith-for-success/
LOCATION:Salvation Ministries HQ\, And All Her Branches Globally.\, Plot 17\, Birabi Street\, Port Harcourt\, Rivers\, 500272\, Nigeria
CATEGORIES:Midweek Service
ATTACH;FMTTYPE=image/png:https://smhos.org/wp-content/uploads/2025/09/Thurs-18th-Sept-2025-IG.png
END:VEVENT
BEGIN:VEVENT
DTSTART;VALUE=DATE:20250920
DTEND;VALUE=DATE:20250921
DTSTAMP:20260421T132803
CREATED:20250914T113503Z
LAST-MODIFIED:20250914T113503Z
UID:36797-1758326400-1758412799@smhos.org
SUMMARY:Operation win your neighbour
DESCRIPTION:
URL:https://smhos.org/event/operation-win-your-neighbour/
LOCATION:Salvation Ministries HQ\, And All Her Branches Globally.\, Plot 17\, Birabi Street\, Port Harcourt\, Rivers\, 500272\, Nigeria
CATEGORIES:Midweek Service
ATTACH;FMTTYPE=image/png:https://smhos.org/wp-content/uploads/2025/09/win-your-neighbour.png
END:VEVENT
BEGIN:VEVENT
DTSTART;TZID=Africa/Lagos:20250925T170000
DTEND;TZID=Africa/Lagos:20250925T200000
DTSTAMP:20260421T132803
CREATED:20250921T102118Z
LAST-MODIFIED:20250921T102118Z
UID:36812-1758819600-1758830400@smhos.org
SUMMARY:Grace for uncommon Success
DESCRIPTION:
URL:https://smhos.org/event/grace-for-uncommon-success/
LOCATION:Salvation Ministries HQ\, And All Her Branches Globally.\, Plot 17\, Birabi Street\, Port Harcourt\, Rivers\, 500272\, Nigeria
CATEGORIES:Midweek Service
ATTACH;FMTTYPE=image/png:https://smhos.org/wp-content/uploads/2025/09/Thur-25th-Sept-2025-IG.png
END:VEVENT
BEGIN:VEVENT
DTSTART;VALUE=DATE:20250927
DTEND;VALUE=DATE:20250928
DTSTAMP:20260421T132803
CREATED:20250921T114425Z
LAST-MODIFIED:20250921T114425Z
UID:36823-1758931200-1759017599@smhos.org
SUMMARY:Global Mass Evangelism
DESCRIPTION:
URL:https://smhos.org/event/global-mass-evangelism/
LOCATION:Salvation Ministries HQ\, And All Her Branches Globally.\, Plot 17\, Birabi Street\, Port Harcourt\, Rivers\, 500272\, Nigeria
CATEGORIES:Midweek Service
ATTACH;FMTTYPE=image/png:https://smhos.org/wp-content/uploads/2025/09/GME-IG-oct.png
END:VEVENT
END:VCALENDAR