BEGIN:VCALENDAR
VERSION:2.0
PRODID:-//Salvation Ministries - ECPv6.15.20//NONSGML v1.0//EN
CALSCALE:GREGORIAN
METHOD:PUBLISH
X-ORIGINAL-URL:https://smhos.org
X-WR-CALDESC:Events for Salvation Ministries
REFRESH-INTERVAL;VALUE=DURATION:PT1H
X-Robots-Tag:noindex
X-PUBLISHED-TTL:PT1H
BEGIN:VTIMEZONE
TZID:UTC
BEGIN:STANDARD
TZOFFSETFROM:+0000
TZOFFSETTO:+0000
TZNAME:UTC
DTSTART:20240101T000000
END:STANDARD
END:VTIMEZONE
BEGIN:VEVENT
DTSTART;TZID=UTC:20250417T170000
DTEND;TZID=UTC:20250417T190000
DTSTAMP:20260421T220056
CREATED:20250417T225242Z
LAST-MODIFIED:20250417T225242Z
UID:36617-1744909200-1744916400@smhos.org
SUMMARY:Manifesting Your Miracles
DESCRIPTION:
URL:https://smhos.org/event/manifesting-your-miracles/
LOCATION:Salvation Ministries HQ\, And All Her Branches Globally.\, Plot 17\, Birabi Street\, Port Harcourt\, Rivers\, 500272\, Nigeria
CATEGORIES:Midweek Service
ATTACH;FMTTYPE=image/png:https://smhos.org/wp-content/uploads/2025/04/Thur-17th-April-2025-IG-D.png
END:VEVENT
END:VCALENDAR