BEGIN:VCALENDAR
VERSION:2.0
PRODID:-//Salvation Ministries - ECPv6.15.17//NONSGML v1.0//EN
CALSCALE:GREGORIAN
METHOD:PUBLISH
X-ORIGINAL-URL:https://smhos.org
X-WR-CALDESC:Events for Salvation Ministries
REFRESH-INTERVAL;VALUE=DURATION:PT1H
X-Robots-Tag:noindex
X-PUBLISHED-TTL:PT1H
BEGIN:VTIMEZONE
TZID:Africa/Lagos
BEGIN:STANDARD
TZOFFSETFROM:+0100
TZOFFSETTO:+0100
TZNAME:WAT
DTSTART:20250101T000000
END:STANDARD
END:VTIMEZONE
BEGIN:VEVENT
DTSTART;TZID=Africa/Lagos:20260422T170000
DTEND;TZID=Africa/Lagos:20260422T193000
DTSTAMP:20260419T133801
CREATED:20260419T095720Z
LAST-MODIFIED:20260419T095720Z
UID:44700-1776877200-1776886200@smhos.org
SUMMARY:Global Youth Fellowship
DESCRIPTION:
URL:https://smhos.org/event/global-youth-fellowship/
LOCATION:Salvation Ministries HQ\, And All Her Branches Globally.\, Plot 17\, Birabi Street\, Port Harcourt\, Rivers\, 500272\, Nigeria
CATEGORIES:Midweek Service
ATTACH;FMTTYPE=image/png:https://smhos.org/wp-content/uploads/2026/04/GYF-2026-IG.png
END:VEVENT
BEGIN:VEVENT
DTSTART;TZID=Africa/Lagos:20260423T170000
DTEND;TZID=Africa/Lagos:20260423T200000
DTSTAMP:20260419T133801
CREATED:20260419T094337Z
LAST-MODIFIED:20260419T094337Z
UID:44690-1776963600-1776974400@smhos.org
SUMMARY:Living By The Word
DESCRIPTION:
URL:https://smhos.org/event/living-by-the-word/
LOCATION:Salvation Ministries HQ\, And All Her Branches Globally.\, Plot 17\, Birabi Street\, Port Harcourt\, Rivers\, 500272\, Nigeria
CATEGORIES:Midweek Service
ATTACH;FMTTYPE=image/png:https://smhos.org/wp-content/uploads/2026/04/Thur-23rd-April-2026-IG.png
END:VEVENT
END:VCALENDAR