BEGIN:VCALENDAR
VERSION:2.0
PRODID:-//Salvation Ministries - ECPv6.15.20//NONSGML v1.0//EN
CALSCALE:GREGORIAN
METHOD:PUBLISH
X-WR-CALNAME:Salvation Ministries
X-ORIGINAL-URL:https://smhos.org
X-WR-CALDESC:Events for Salvation Ministries
REFRESH-INTERVAL;VALUE=DURATION:PT1H
X-Robots-Tag:noindex
X-PUBLISHED-TTL:PT1H
BEGIN:VTIMEZONE
TZID:UTC
BEGIN:STANDARD
TZOFFSETFROM:+0000
TZOFFSETTO:+0000
TZNAME:UTC
DTSTART:20240101T000000
END:STANDARD
END:VTIMEZONE
BEGIN:VEVENT
DTSTART;TZID=UTC:20250401T170000
DTEND;TZID=UTC:20250403T200000
DTSTAMP:20260421T184235
CREATED:20250403T174807Z
LAST-MODIFIED:20250403T174807Z
UID:35782-1743526800-1743710400@smhos.org
SUMMARY:The Winning Faith
DESCRIPTION:
URL:https://smhos.org/event/april-wosr/
LOCATION:Salvation Ministries HQ\, And All Her Branches Globally.\, Plot 17\, Birabi Street\, Port Harcourt\, Rivers\, 500272\, Nigeria
CATEGORIES:WOSR
ATTACH;FMTTYPE=image/png:https://smhos.org/wp-content/uploads/2025/04/april-wosrr-IG-1638x2048-1.png
END:VEVENT
BEGIN:VEVENT
DTSTART;TZID=UTC:20250401T180000
DTEND;TZID=UTC:20250401T190000
DTSTAMP:20260421T184235
CREATED:20250403T175357Z
LAST-MODIFIED:20250403T175357Z
UID:35796-1743530400-1743534000@smhos.org
SUMMARY:Church in The House
DESCRIPTION:
URL:https://smhos.org/event/april-cith/
LOCATION:Salvation Ministries HQ\, And All Her Branches Globally.\, Plot 17\, Birabi Street\, Port Harcourt\, Rivers\, 500272\, Nigeria
CATEGORIES:Home Fellowship,WOSR
ATTACH;FMTTYPE=image/png:https://smhos.org/wp-content/uploads/2025/04/april-wosr-cith-1638x2048-1.png
END:VEVENT
END:VCALENDAR